Workbook

Sheet 東日本女子申込シート
A1: 第３７回東日本女子駅伝競走大会 中学生区間選考会 | K1: 申込シート
B2: 陸連登録番号 | C2: JAAF-ID | D2: 氏名 | E2: ﾌﾘｶﾞﾅ | F2: 学年 | G2: 生年月日 (西暦) | H2: 学校名 | I2: 資格取得 種目 | J2: 資格取得 記録 | K2: 資格取得 大会名 | L2: 資格取得 期日 | M2: 資格取得 | N2: 今年度の主な競技成績 （県大会入賞以上）
A3: 例1 | B3: 1000000 | C3: 00123456789 | D3: 埼玉 桃子 | E3: ｻｲﾀﾏ ﾓﾓｺ | F3: 3 | G3: 2007.11.14 | H3: 埼玉市立第一中学校 | I3: 3000ｍ | J3: 10.12.00 | K3: チャレンジミートゥー | L3: 44680 | M3: 記録突破 | N3: 学校総体女子1500ｍ優勝・関東女子1500ｍ3位
A4: 例2 | B4: 2000000 | C4: 00987654321 | D4: 埼玉県梅子 | E4: ｻｲﾀﾏｹﾝ ｳﾒｺ | F4: 2 | G4: 2008.11.14 | H4: 埼玉市立第二中学校 | I4: 800ｍ | J4: 2.17.00 | K4: 学校総合体育大会埼玉県大会 | L4: 44765 | M4: 学総入賞 | N4: 全国女子1500ｍ出場・関東女子1500ｍ4位・学校総体女子1500ｍ3位
A5: 1
A6: 2
A7: 3
A8: 4
A9: 5
A10: 6
A11: 7
A12: 8
A13: 9
A14: 10

Sheet 東日本女子駅伝参加申込書
A1: =TRIM(東日本女子申込シート!A1&" 参加申込書（兼ＦＡＸ送信表） （一財）埼玉陸上競技協会 駅伝強化委員 佐藤 友彬 様") -> 第３７回東日本女子駅伝競走大会 中学生区間選考会 参加申込書（兼ＦＡＸ送信表） （一財）埼玉陸上競技協会 駅伝強化委員 佐藤 友彬 様
A2: 学校名 | B2: =東日本女子申込シート!H5 -> 0
A3: 学校郵便番号 | B3: 〒
A4: 学校所在地 | B4: 埼玉県
A5: 学校電話番号
A6: 学校ＦＡＸ番号
A7: 申込責任者連絡先（携帯）
A8: 申込人数・参加料 | B8: =COUNTA(東日本女子申込シート!D5:D14)&"名" -> 0名 | C8: =COUNTA(東日本女子申込シート!D5:D14)*600&"円" -> 0円
A9: 申込選手 | B9: =IF(東日本女子申込シート!B2="", "", 東日本女子申込シート!B2) -> 陸連登録番号 | C9: =IF(東日本女子申込シート!C2="", "", 東日本女子申込シート!C2) -> JAAF-ID | D9: =IF(東日本女子申込シート!D2="", "", 東日本女子申込シート!D2) -> 氏名 | E9: =IF(東日本女子申込シート!F2="", "", 東日本女子申込シート!F2) -> 学年 | F9: =IF(東日本女子申込シート!G2="", "", 東日本女子申込シート!G2) -> 生年月日 (西暦)
B10: =IF(東日本女子申込シート!B5="", "", 東日本女子申込シート!B5) | C10: =IF(東日本女子申込シート!C5="", "", 東日本女子申込シート!C5) | D10: =IF(東日本女子申込シート!D5="", "", 東日本女子申込シート!D5) | E10: =IF(東日本女子申込シート!F5="", "", 東日本女子申込シート!F5) | F10: =IF(東日本女子申込シート!G5="", "", 東日本女子申込シート!G5)
B11: =IF(東日本女子申込シート!B6="", "", 東日本女子申込シート!B6) | C11: =IF(東日本女子申込シート!C6="", "", 東日本女子申込シート!C6) | D11: =IF(東日本女子申込シート!D6="", "", 東日本女子申込シート!D6) | E11: =IF(東日本女子申込シート!F6="", "", 東日本女子申込シート!F6) | F11: =IF(東日本女子申込シート!G6="", "", 東日本女子申込シート!G6)
B12: =IF(東日本女子申込シート!B7="", "", 東日本女子申込シート!B7) | C12: =IF(東日本女子申込シート!C7="", "", 東日本女子申込シート!C7) | D12: =IF(東日本女子申込シート!D7="", "", 東日本女子申込シート!D7) | E12: =IF(東日本女子申込シート!F7="", "", 東日本女子申込シート!F7) | F12: =IF(東日本女子申込シート!G7="", "", 東日本女子申込シート!G7)
B13: =IF(東日本女子申込シート!B8="", "", 東日本女子申込シート!B8) | C13: =IF(東日本女子申込シート!C8="", "", 東日本女子申込シート!C8) | D13: =IF(東日本女子申込シート!D8="", "", 東日本女子申込シート!D8) | E13: =IF(東日本女子申込シート!F8="", "", 東日本女子申込シート!F8) | F13: =IF(東日本女子申込シート!G8="", "", 東日本女子申込シート!G8)
B14: =IF(東日本女子申込シート!B9="", "", 東日本女子申込シート!B9) | C14: =IF(東日本女子申込シート!C9="", "", 東日本女子申込シート!C9) | D14: =IF(東日本女子申込シート!D9="", "", 東日本女子申込シート!D9) | E14: =IF(東日本女子申込シート!F9="", "", 東日本女子申込シート!F9) | F14: =IF(東日本女子申込シート!G9="", "", 東日本女子申込シート!G9)
B15: =IF(東日本女子申込シート!B10="", "", 東日本女子申込シート!B10) | C15: =IF(東日本女子申込シート!C10="", "", 東日本女子申込シート!C10) | D15: =IF(東日本女子申込シート!D10="", "", 東日本女子申込シート!D10) | E15: =IF(東日本女子申込シート!F10="", "", 東日本女子申込シート!F10) | F15: =IF(東日本女子申込シート!G10="", "", 東日本女子申込シート!G10)
B16: =IF(東日本女子申込シート!B11="", "", 東日本女子申込シート!B11) | C16: =IF(東日本女子申込シート!C11="", "", 東日本女子申込シート!C11) | D16: =IF(東日本女子申込シート!D11="", "", 東日本女子申込シート!D11) | E16: =IF(東日本女子申込シート!F11="", "", 東日本女子申込シート!F11) | F16: =IF(東日本女子申込シート!G11="", "", 東日本女子申込シート!G11)
B17: =IF(東日本女子申込シート!B12="", "", 東日本女子申込シート!B12) | C17: =IF(東日本女子申込シート!C12="", "", 東日本女子申込シート!C12) | D17: =IF(東日本女子申込シート!D12="", "", 東日本女子申込シート!D12) | E17: =IF(東日本女子申込シート!F12="", "", 東日本女子申込シート!F12) | F17: =IF(東日本女子申込シート!G12="", "", 東日本女子申込シート!G12)
B18: =IF(東日本女子申込シート!B13="", "", 東日本女子申込シート!B13) | C18: =IF(東日本女子申込シート!C13="", "", 東日本女子申込シート!C13) | D18: =IF(東日本女子申込シート!D13="", "", 東日本女子申込シート!D13) | E18: =IF(東日本女子申込シート!F13="", "", 東日本女子申込シート!F13) | F18: =IF(東日本女子申込シート!G13="", "", 東日本女子申込シート!G13)
B19: =IF(東日本女子申込シート!B14="", "", 東日本女子申込シート!B14) | C19: =IF(東日本女子申込シート!C14="", "", 東日本女子申込シート!C14) | D19: =IF(東日本女子申込シート!D14="", "", 東日本女子申込シート!D14) | E19: =IF(東日本女子申込シート!F14="", "", 東日本女子申込シート!F14) | F19: =IF(東日本女子申込シート!G14="", "", 東日本女子申込シート!G14)
A20: =TODAY() -> 44650 | C20: 上記の通り申し込みます。
A21: 申込責任者（顧問名） | D21: 印
A22: 校 長 | D22: 印
A24: ＦＡＸ送信先：０４８－８３６－１５８７(さいたま市立白幡中学校)
A26: ※参加申込書を当日、受付に提出。
A27: ※参加料の支払いは、当日受付にてお願いします。
A28: なお、参加料については、当日棄権でもエントリーの人数分お支払いください。
A29: ※アスリートビブス、腰ナンバーは駅伝強化委員会が用意します。
A30: （安全ピン１２本は、各自用意）
