Workbook

Sheet 選手登録
B2: 受付番号 | J2: 一般財団法人 埼玉陸上競技協会 令和 | K2: 7 | L2: 年度 小学生選手登録申込
B4: 登録区分 | D4: 団体登録 | E4: 申請区分 | F4: 新規
B5: ■団体登録
B6: 活動拠点 | E6: 団体名称 | I6: 略称名称 6文字以内 | K6: 代表者名 | O6: 連絡先
B7: 連絡責任者 | E7: 住所 〒 | K7: 連絡先 | O7: E-mail
B8: ■指導者登録
C9: JAAF公認指導者資格 | E9: 登録番号 | F9: 氏 名 | H9: フリガナ | J9: 生年月日 | K9: 年齢 | L9: 公認審判員資格
C10: 有無 | D10: 資格 | F10: 姓 | G10: 名 | H10: 姓 | I10: 名 | J10: 西暦8桁 | L10: 有無 | M10: 資格 | N10: JAAF-ID
B11: 1 | K11: =IF(J11=0,"",DATEDIF(J11,NOW(),"Y"))
B12: 2 | K12: =IF(J12=0,"",DATEDIF(J12,NOW(),"Y"))
B13: 3 | K13: =IF(J13=0,"",DATEDIF(J13,NOW(),"Y"))
B14: 4 | K14: =IF(J14=0,"",DATEDIF(J14,NOW(),"Y"))
B15: 5 | K15: =IF(J15=0,"",DATEDIF(J15,NOW(),"Y"))
B16: ■選手登録
D17: 男 子 | G17: 女 子 | J17: 学年別計 | L17: ■選手登録料 | V17: 居住都県調査
D18: JAAF登録 | E18: JAAF未登録 | F18: 計 | G18: JAAF登録 | H18: JAAF未登録 | I18: 計 | N18: JAAF登録者 | O18: =D22+G22 -> 0 | W18: 県内居住選手 | X18: 県外居住選手
B19: 6年生 | D19: =COUNTIFS($C$27:$C$126,"男",$N$27:$N$126,"6",$D$27:$D$126,"<>") -> 0 | E19: =COUNTIFS($C$27:$C$126,"男",$N$27:$N$126,"6",$D$27:$D$126,"") -> 0 | F19: =SUM(D19:E19) -> 0 | G19: =COUNTIFS($C$27:$C$126,"女",$N$27:$N$126,"6",$D$27:$D$126,"<>") -> 0 | H19: =COUNTIFS($C$27:$C$126,"女",$N$27:$N$126,"6",$D$27:$D$126,"") -> 0 | I19: =SUM(G19:H19) -> 0 | J19: =SUM(F19,I19) -> 0 | N19: JAAF未登録者 | O19: =E22+H22 -> 0 | V19: 6年生 | W19: =COUNTIFS($O$27:$O$126,"埼玉県",$N$27:$N$126,"6") -> 0 | X19: =COUNTIFS($N$27:$N$126,"6",$O$27:$O$126,"<>埼玉県") -> 0
B20: 5年生 | D20: =COUNTIFS($C$27:$C$126,"男",$N$27:$N$126,"5",$D$27:$D$126,"<>") -> 0 | E20: =COUNTIFS($C$27:$C$126,"男",$N$27:$N$126,"5",$D$27:$D$126,"") -> 0 | F20: =SUM(D20:E20) -> 0 | G20: =COUNTIFS($C$27:$C$126,"女",$N$27:$N$126,"5",$D$27:$D$126,"<>") -> 0 | H20: =COUNTIFS($C$27:$C$126,"女",$N$27:$N$126,"5",$D$27:$D$126,"") -> 0 | I20: =SUM(G20:H20) -> 0 | J20: =SUM(F20,I20) -> 0 | N20: 埼玉陸協登録料 | O20: =IF(C28="",0,O19*300) -> 0 | Q20: ※振込予定日 | R20: 45428 | V20: 5年生 | W20: =COUNTIFS($O$27:$O$126,"埼玉県",$N$27:$N$126,"5") -> 0 | X20: =COUNTIFS($N$27:$N$126,"5",$O$27:$O$126,"<>埼玉県") -> 0
B21: 4年生 | D21: =COUNTIFS($C$27:$C$126,"男",$N$27:$N$126,"4",$D$27:$D$126,"<>") -> 0 | E21: =COUNTIFS($C$27:$C$126,"男",$N$27:$N$126,"4",$D$27:$D$126,"") -> 0 | F21: =SUM(D21:E21) -> 0 | G21: =COUNTIFS($C$27:$C$126,"女",$N$27:$N$126,"4",$D$27:$D$126,"<>") -> 0 | H21: =COUNTIFS($C$27:$C$126,"女",$N$27:$N$126,"4",$D$27:$D$126,"") -> 0 | I21: =SUM(G21:H21) -> 0 | J21: =SUM(F21,I21) -> 0 | N21: 金融機関名 支店名： | O21: ゆうちょ銀行 上尾支店 | V21: 4年生 | W21: =COUNTIFS($O$27:$O$126,"埼玉県",$N$27:$N$126,"4") -> 0 | X21: =COUNTIFS($N$27:$N$126,"4",$O$27:$O$126,"<>埼玉県") -> 0
B22: 合 計 | D22: =SUM(D19:D21) -> 0 | E22: =SUM(E19:E21) -> 0 | F22: =SUM(D22:E22) -> 0 | G22: =SUM(G19:G21) -> 0 | H22: =SUM(H19:H21) -> 0 | I22: =SUM(G22:H22) -> 0 | J22: =SUM(F22,I22) -> 0 | N22: 振込口座番号： | O22: 00100-4-695063 | V22: 合 計 | W22: =SUM(W19:W21) -> 0 | X22: =SUM(X19:X21) -> 0
B24: № | C24: 性別 | D24: JAAF-ID | E24: 登録番号 | F24: 氏 名 | H24: フリガナ | J24: 生年月日 | K24: 年齢 | L24: 学校名 | N24: 学年 | O24: 住 所
F25: 姓 | G25: 名 | H25: 姓 | I25: 名 | J25: 20**/**/**
B26: 例 | C26: 男 | D26: 900095067 | E26: 10001 | F26: 彩の国 | G26: 陸人 | H26: サイノクニ | I26: リクト | J26: 41004 | K26: =IF(J26=0,"",DATEDIF(J26,NOW(),"Y")) -> 12 | L26: 彩の国小 | N26: 5 | O26: 埼玉県 | P26: 上尾市愛宕3丁目28-10 | V26: 活動拠点 | W26: 居住地
A27: 1 | B27: =IF(C27="","",ROW()-26) | V27: さいたま市西区 | W27: 埼玉県
A28: 2 | B28: =IF(C28="","",ROW()-26) | V28: さいたま市北区 | W28: 東京都
A29: 3 | B29: =IF(C29="","",ROW()-26) | V29: さいたま市大宮区 | W29: 千葉県
A30: 4 | B30: =IF(C30="","",ROW()-26) | V30: さいたま市見沼区 | W30: 群馬県
A31: 5 | B31: =IF(C31="","",ROW()-26) | V31: さいたま市中央区 | W31: 神奈川県
A32: 6 | B32: =IF(C32="","",ROW()-26) | V32: さいたま市桜区 | W32: 栃木県
A33: 7 | B33: =IF(C33="","",ROW()-26) | V33: さいたま市浦和区
A34: 8 | B34: =IF(C34="","",ROW()-26) | V34: さいたま市南区
A35: 9 | B35: =IF(C35="","",ROW()-26) | V35: さいたま市緑区
A36: 10 | B36: =IF(C36="","",ROW()-26) | V36: さいたま市岩槻区
A37: 11 | B37: =IF(C37="","",ROW()-26) | V37: 川越市
A38: 12 | B38: =IF(C38="","",ROW()-26) | V38: 熊谷市
A39: 13 | B39: =IF(C39="","",ROW()-26) | V39: 川口市
A40: 14 | B40: =IF(C40="","",ROW()-26) | V40: 行田市
A41: 15 | B41: =IF(C41="","",ROW()-26) | V41: 秩父市
A42: 16 | B42: =IF(C42="","",ROW()-26) | V42: 所沢市
A43: 17 | B43: =IF(C43="","",ROW()-26) | V43: 飯能市
...

Sheet 指導者追加（5人以上）
B3: ■指導者登録
C4: JAAF公認指導者資格 | E4: 登録番号 | F4: 氏 名 | H4: フリガナ | J4: 生年月日 | K4: 年齢 | L4: 公認審判員資格
C5: 有無 | D5: 資格 | F5: 姓 | G5: 名 | H5: 姓 | I5: 名 | J5: 西暦8桁 | L5: 有無 | M5: 資格 | N5: JAAF-ID
B6: 6 | K6: =IF(J6=0,"",DATEDIF(J6,NOW(),"Y"))
B7: 7 | K7: =IF(J7=0,"",DATEDIF(J7,NOW(),"Y"))
B8: 8 | K8: =IF(J8=0,"",DATEDIF(J8,NOW(),"Y"))
B9: 9 | K9: =IF(J9=0,"",DATEDIF(J9,NOW(),"Y"))
B10: 10 | K10: =IF(J10=0,"",DATEDIF(J10,NOW(),"Y"))
B11: 11 | K11: =IF(J11=0,"",DATEDIF(J11,NOW(),"Y"))
B12: 12 | K12: =IF(J12=0,"",DATEDIF(J12,NOW(),"Y"))
B13: 13 | K13: =IF(J13=0,"",DATEDIF(J13,NOW(),"Y"))
B14: 14 | K14: =IF(J14=0,"",DATEDIF(J14,NOW(),"Y"))
B15: 15 | K15: =IF(J15=0,"",DATEDIF(J15,NOW(),"Y"))
B16: 16 | K16: =IF(J16=0,"",DATEDIF(J16,NOW(),"Y"))
B17: 17 | K17: =IF(J17=0,"",DATEDIF(J17,NOW(),"Y"))
... B20: 20 | K20: =IF(J20=0,"",DATEDIF(J20,NOW(),"Y"))

Sheet 選手追加登録_1
B2: 受付番号 | J2: 一般財団法人 埼玉陸上競技協会 令和 | K2: =選手登録!K2 -> 7 | L2: 年度 小学生選手登録申込
B4: 登録区分 | D4: =選手登録!D4 -> 団体登録 | E4: 申請区分 | F4: 追加
B5: ■団体登録
B6: 活動拠点 | D6: =選手登録!D6 -> 0 | E6: 団体名称 | F6: =選手登録!F6 -> 0 | I6: 略称名称 6文字以内 | J6: =選手登録!J6 -> 0 | K6: 代表者名 | L6: =選手登録!L6 -> 0 | O6: 連絡先 | P6: =選手登録!P6 -> 0
B7: 連絡責任者 | D7: =選手登録!D7 -> 0 | E7: 住所 〒 | F7: =選手登録!F7 -> 0 | G7: =選手登録!G7 -> 0 | H7: =選手登録!H7 -> 0 | K7: 連絡先 | L7: =選手登録!L7 -> 0 | O7: E-mail | P7: =選手登録!P7 -> 0
B8: ■選手登録
D9: 男 子 | G9: 女 子 | J9: 学年別計 | L9: ■選手登録料 | V9: 居住地調査
D10: JAAF登録 | E10: JAAF未登録 | F10: 計 | G10: JAAF登録 | H10: JAAF未登録 | I10: 計 | N10: JAAF登録者 | O10: =D14+G14 -> 0 | W10: 県内居住選手 | X10: 県外居住選手
B11: 6年生 | D11: =COUNTIFS($C$19:$C$68,"男",$N$19:$N$68,"6",$D$19:$D$68,"<>") -> 0 | E11: =COUNTIFS($C$19:$C$68,"男",$N$19:$N$68,"6",$D$19:$D$68,"") -> 0 | F11: =SUM(D11:E11) -> 0 | G11: =COUNTIFS($C$19:$C$68,"女",$N$19:$N$68,"6",$D$19:$D$68,"<>") -> 0 | H11: =COUNTIFS($C$19:$C$68,"女",$N$19:$N$68,"6",$D$19:$D$68,"") -> 0 | I11: =SUM(G11:H11) -> 0 | J11: =SUM(F11,I11) -> 0 | N11: JAAF未登録者 | O11: =E14+H14 -> 0 | V11: 6年生 | W11: =COUNTIFS($O$19:$O$68,"埼玉県",$N$19:$N$68,"6") -> 0 | X11: =COUNTIFS($N$19:$N$68,"6",$O$19:$O$68,"<>埼玉県") -> 0
B12: 5年生 | D12: =COUNTIFS($C$19:$C$68,"男",$N$19:$N$68,"5",$D$19:$D$68,"<>") -> 0 | E12: =COUNTIFS($C$19:$C$68,"男",$N$19:$N$68,"5",$D$19:$D$68,"") -> 0 | F12: =SUM(D12:E12) -> 0 | G12: =COUNTIFS($C$19:$C$68,"女",$N$19:$N$68,"5",$D$19:$D$68,"<>") -> 0 | H12: =COUNTIFS($C$19:$C$68,"女",$N$19:$N$68,"5",$D$19:$D$68,"") -> 0 | I12: =SUM(G12:H12) -> 0 | J12: =SUM(F12,I12) -> 0 | N12: 埼玉陸協登録料 | O12: =IF(C20="",0,O11*300) -> 0 | Q12: ※振込予定日 | V12: 5年生 | W12: =COUNTIFS($O$19:$O$68,"埼玉県",$N$19:$N$68,"5") -> 0 | X12: =COUNTIFS($N$19:$N$68,"5",$O$19:$O$68,"<>埼玉県") -> 0
B13: 4年生 | D13: =COUNTIFS($C$19:$C$68,"男",$N$19:$N$68,"4",$D$19:$D$68,"<>") -> 0 | E13: =COUNTIFS($C$19:$C$68,"男",$N$19:$N$68,"4",$D$19:$D$68,"") -> 0 | F13: =SUM(D13:E13) -> 0 | G13: =COUNTIFS($C$19:$C$68,"女",$N$19:$N$68,"4",$D$19:$D$68,"<>") -> 0 | H13: =COUNTIFS($C$19:$C$68,"女",$N$19:$N$68,"4",$D$19:$D$68,"") -> 0 | I13: =SUM(G13:H13) -> 0 | J13: =SUM(F13,I13) -> 0 | N13: 金融機関名 支店名： | O13: ゆうちょ銀行 上尾支店 | V13: 4年生 | W13: =COUNTIFS($O$19:$O$68,"埼玉県",$N$19:$N$68,"4") -> 0 | X13: =COUNTIFS($N$19:$N$68,"4",$O$19:$O$68,"<>埼玉県") -> 0
B14: 合 計 | D14: =SUM(D11:D13) -> 0 | E14: =SUM(E11:E13) -> 0 | F14: =SUM(D14:E14) -> 0 | G14: =SUM(G11:G13) -> 0 | H14: =SUM(H11:H13) -> 0 | I14: =SUM(G14:H14) -> 0 | J14: =SUM(F14,I14) -> 0 | N14: 振込口座番号： | O14: 00100-4-695063 | V14: 合 計 | W14: =SUM(W11:W13) -> 0 | X14: =SUM(X11:X13) -> 0
B16: № | C16: 性別 | D16: JAAF-ID | E16: 登録番号 | F16: 氏 名 | H16: フリガナ | J16: 生年月日 | K16: 年齢 | L16: 学校名 | N16: 学年 | O16: 住 所
F17: 姓 | G17: 名 | H17: 姓 | I17: 名 | J17: 20**/**/** | V17: 居住都県調査
B18: 例 | C18: 男 | D18: 900095067 | E18: 10001 | F18: 彩の国 | G18: 陸人 | H18: サイノクニ | I18: リクト | J18: 41004 | K18: =IF(J18=0,"",DATEDIF(J18,NOW(),"Y")) -> 12 | L18: 彩の国小 | N18: 5 | O18: 埼玉県 | P18: 上尾市愛宕3丁目28-10 | V18: 活動拠点 | W18: 居住地
A19: 1 | B19: =IF(C19="","",ROW()-18) | K19: =IF(J19=0,"",DATEDIF(J19,NOW(),"Y")) | V19: さいたま市西区 | W19: 埼玉県
A20: 2 | B20: =IF(C20="","",ROW()-18) | K20: =IF(J20=0,"",DATEDIF(J20,NOW(),"Y")) | V20: さいたま市北区 | W20: 東京都
A21: 3 | B21: =IF(C21="","",ROW()-18) | K21: =IF(J21=0,"",DATEDIF(J21,NOW(),"Y")) | V21: さいたま市大宮区 | W21: 千葉県
A22: 4 | B22: =IF(C22="","",ROW()-18) | K22: =IF(J22=0,"",DATEDIF(J22,NOW(),"Y")) | V22: さいたま市見沼区 | W22: 群馬県
A23: 5 | B23: =IF(C23="","",ROW()-18) | K23: =IF(J23=0,"",DATEDIF(J23,NOW(),"Y")) | V23: さいたま市中央区 | W23: 神奈川県
A24: 6 | B24: =IF(C24="","",ROW()-18) | K24: =IF(J24=0,"",DATEDIF(J24,NOW(),"Y")) | V24: さいたま市桜区 | W24: 栃木県
A25: 7 | B25: =IF(C25="","",ROW()-18) | K25: =IF(J25=0,"",DATEDIF(J25,NOW(),"Y")) | V25: さいたま市浦和区
A26: 8 | B26: =IF(C26="","",ROW()-18) | K26: =IF(J26=0,"",DATEDIF(J26,NOW(),"Y")) | V26: さいたま市南区
A27: 9 | B27: =IF(C27="","",ROW()-18) | K27: =IF(J27=0,"",DATEDIF(J27,NOW(),"Y")) | V27: さいたま市緑区
A28: 10 | B28: =IF(C28="","",ROW()-18) | K28: =IF(J28=0,"",DATEDIF(J28,NOW(),"Y")) | V28: さいたま市岩槻区
A29: 11 | B29: =IF(C29="","",ROW()-18) | K29: =IF(J29=0,"",DATEDIF(J29,NOW(),"Y")) | V29: 川越市
A30: 12 | B30: =IF(C30="","",ROW()-18) | K30: =IF(J30=0,"",DATEDIF(J30,NOW(),"Y")) | V30: 熊谷市
A31: 13 | B31: =IF(C31="","",ROW()-18) | K31: =IF(J31=0,"",DATEDIF(J31,NOW(),"Y")) | V31: 川口市
A32: 14 | B32: =IF(C32="","",ROW()-18) | K32: =IF(J32=0,"",DATEDIF(J32,NOW(),"Y")) | V32: 行田市
A33: 15 | B33: =IF(C33="","",ROW()-18) | K33: =IF(J33=0,"",DATEDIF(J33,NOW(),"Y")) | V33: 秩父市
A34: 16 | B34: =IF(C34="","",ROW()-18) | K34: =IF(J34=0,"",DATEDIF(J34,NOW(),"Y")) | V34: 所沢市
A35: 17 | B35: =IF(C35="","",ROW()-18) | K35: =IF(J35=0,"",DATEDIF(J35,NOW(),"Y")) | V35: 飯能市
A36: 18 | B36: =IF(C36="","",ROW()-18) | K36: =IF(J36=0,"",DATEDIF(J36,NOW(),"Y")) | V36: 加須市
... A68: 50 | B68: =IF(C68="","",ROW()-18) | K68: =IF(J68=0,"",DATEDIF(J68,NOW(),"Y")) | V68: 北足立郡伊奈町
