Workbook

Sheet 登録シート
B2: 一般財団法人 埼玉陸上競技協会 令和 | M2: 5 | N2: 年度 小学生選手登録申込書
B3: 申請年月日 | G3: 登録区分（個人・団体） | K3: 申請区分（新規・追加） | O3: 活動拠点 | S3: ※受付番号
B4: 登録人数 | C4: 男子 | D4: =IF(E21="","",COUNTIF(K$21:K$120,"男")) | E4: 団体登録 | F4: フリガナ | N4: 団体代表者名 | S4: 電話番号
C5: 女子 | D5: =IF(E21="","",COUNTIF(K$21:K$120,"女")) | F5: 正式名称 | N5: ※登録料 | P5: =IF(D6="","",D6*300) | R5: 登録料振込口座番号：ゆうちょ銀行 上尾支店 口座番号：００１00-4-695063
C6: ※合計 | D6: =IF(K21="","",SUM(D4:D5)) | F6: 略称名称 ※６文字以内 | K6: ※大会申込時には同じ略称名称を使って下さい。 | N6: 振込日 YYYY/MM/DD | R6: 取扱番号
B7: 連絡責任者 | D7: フリガナ | I7: 連絡先 | J7: 郵便番号 | M7: 電話番号 | R7: 携帯電話
D8: 氏 名 | J8: 住 所 | Q8: Ｅ－Ｍａｉｌ
B10: 指導種目 ※主に指導されている種目 | E10: 氏 名 ※姓と名の間に空白 | H10: フリガナ ※姓と名の間に空白 | K10: 性別 | L10: 生年月日 | N10: 年齢 | O10: ＪＡＡＦ指導者資格 | T10: 日本陸連公認審判員資格
O11: 有無 | P11: 資格 | R11: 登録番号 | T11: 有無 | U11: 資格 | V11: 登録番号
B12: 例 | C12: 全般 | E12: 彩の国 一郎 | H12: サイノクニ イチロウ | K12: 男 | L12: 30234 | N12: =IF(L12=0,"",DATEDIF(L12,NOW(),"Y")) -> 40 | O12: 有 | P12: ジュニアコーチ | R12: 011C0208888 | T12: 有 | U12: B級
B13: 1 | N13: =IF(L13=0,"",DATEDIF(L13,NOW(),"Y"))
B14: 2 | N14: =IF(L14=0,"",DATEDIF(L14,NOW(),"Y"))
B15: 3 | N15: =IF(L15=0,"",DATEDIF(L15,NOW(),"Y"))
B16: 4 | N16: =IF(L16=0,"",DATEDIF(L16,NOW(),"Y"))
B17: 5 | N17: =IF(L17=0,"",DATEDIF(L17,NOW(),"Y"))
B18: ■選手登録 | E18: ※１上二桁クラブNO 下三桁001～９９９で設定 | L18: ※２日本陸連登録の5，6年生の児童には〇を入力
B19: № | C19: ※１登録番号 | E19: 氏 名 | H19: フリガナ | K19: 性別 | L19: 生年月日 | N19: 年齢 | O19: 学校名 | Q19: 学年 | R19: 住 所 | X19: ※２日本陸連登録
B20: 例 | C20: 10001 | E20: 彩国 陸人 | H20: サイノクニ リクト | K20: 男 | L20: 41004 | N20: =IF(L20=0,0,DATEDIF(L20,NOW(),"Y")) -> 11 | O20: 彩の国 | Q20: 5 | R20: 埼玉県 | S20: 上尾市愛宕 | X20: 〇
B21: =IF(E21="","",ROW()-20) | N21: =IF(L21=0,"",DATEDIF(L21,NOW(),"Y")) | R21: =IF(E21="","",R14) | Z21: 岩槻区 | AA21: かいら | AB21: 6 | AC21: Ｍ | AD21: 西原 | AE21: 岩槻区西町２－５－１５－１１０６
B22: =IF(E22="","",ROW()-20) | N22: =IF(L22=0,"",DATEDIF(L22,NOW(),"Y")) | R22: =IF(E22="","",R15) | Z22: 宮島 昊聖 | AA22: こうせい | AB22: 6 | AC22: Ｍ | AD22: 西原 | AE22: 岩槻区西原台１－４－２７－２
B23: =IF(E23="","",ROW()-20) | N23: =IF(L23=0,"",DATEDIF(L23,NOW(),"Y")) | R23: =IF(E23="","",R16) | Z23: 中村 倖大 | AA23: こうだい | AB23: 6 | AC23: M | AD23: 杉戸 | AE23: 杉戸町杉戸５３２
B24: =IF(E24="","",ROW()-20) | N24: =IF(L24=0,"",DATEDIF(L24,NOW(),"Y")) | R24: =IF(E24="","",R17) | Z24: 岡 稜真 | AA24: りょうま | AB24: 6 | AC24: M | AD24: 太田 | AE24: 岩槻区仲町１－１３－１－１
B25: =IF(E25="","",ROW()-20) | N25: =IF(L25=0,"",DATEDIF(L25,NOW(),"Y")) | R25: =IF(E25="","",R18) | Z25: 小島 寛太 | AA25: かんた | AB25: 6 | AC25: M | AD25: 岩槻 | AE25: 岩槻区本町３－１９－２３
B26: =IF(E26="","",ROW()-20) | N26: =IF(L26=0,"",DATEDIF(L26,NOW(),"Y")) | R26: =IF(E26="","",R19) | Z26: 山路 大凱 | AA26: たいが | AB26: 6 | AC26: M | AD26: 岩槻 | AE26: 岩槻区本丸２－１１－２
B27: =IF(E27="","",ROW()-20) | N27: =IF(L27=0,"",DATEDIF(L27,NOW(),"Y")) | R27: =IF(E27="","",R20) | Z27: 上野 真翔 | AA27: まなと | AB27: 5 | AC27: M | AD27: 豊野 | AE27: 春日部市豊野町１－３４－７
B28: =IF(E28="","",ROW()-20) | N28: =IF(L28=0,"",DATEDIF(L28,NOW(),"Y")) | R28: =IF(E28="","",R21) | Z28: 岸田 廉叶 | AA28: れんと | AB28: 5 | AC28: M | AD28: 東岩槻 | AE28: 岩槻区表慈恩寺５９０－５
B29: =IF(E29="","",ROW()-20) | N29: =IF(L29=0,"",DATEDIF(L29,NOW(),"Y")) | R29: =IF(E29="","",R22) | Z29: 山﨑 貴登 | AA29: たかと | AB29: 5 | AC29: M | AD29: 開智 | AE29: 春日部市一ノ割１－３－５
B30: =IF(E30="","",ROW()-20) | N30: =IF(L30=0,"",DATEDIF(L30,NOW(),"Y")) | R30: =IF(E30="","",R23) | Z30: 戸張 諒 | AA30: りょう | AB30: 5 | AC30: M | AD30: 柏崎 | AE30: 岩槻区浮谷１８８９－３
B31: =IF(E31="","",ROW()-20) | N31: =IF(L31=0,"",DATEDIF(L31,NOW(),"Y")) | R31: =IF(E31="","",R24) | Z31: 森田 陸亜 | AA31: りくあ | AB31: 5 | AC31: M | AD31: 平方 | AE31: 越谷市平方２７８２－９
B32: =IF(E32="","",ROW()-20) | N32: =IF(L32=0,"",DATEDIF(L32,NOW(),"Y")) | R32: =IF(E32="","",R25) | Z32: 佐高 伊吹 | AA32: いぶき | AB32: 5 | AC32: M | AD32: 大沢北 | AE32: 越谷市大沢１６５３－２１
... B34: =IF(E34="","",ROW()-20) | N34: =IF(L34=0,"",DATEDIF(L34,NOW(),"Y")) | R34: =IF(E34="","",R27) | Z34: 田中 椋真 | AA34: りょうま | AB34: 5 | AC34: Ｍ | AD34: 西原 | AE34: 岩槻区岩槻４９３３－３
B35: =IF(E35="","",ROW()-20) | N35: =IF(L35=0,"",DATEDIF(L35,NOW(),"Y")) | R35: =IF(E35="","",R28) | Z35: 瓜生 航大 | AB35: 5 | AC35: M | AD35: 太田 | AE35: 岩槻区太田１－５－４－３
B36: =IF(E36="","",ROW()-20) | N36: =IF(L36=0,"",DATEDIF(L36,NOW(),"Y")) | R36: =IF(E36="","",R29) | Z36: 田島 航平 | AB36: 5 | AC36: M | AD36: 太田 | AE36: 岩槻区太田２－４－３３－２
B37: =IF(E37="","",ROW()-20) | N37: =IF(L37=0,"",DATEDIF(L37,NOW(),"Y")) | R37: =IF(E37="","",R30) | Z37: 小池 夕陽 | AA37: ゆうひ | AB37: 5 | AC37: M | AD37: 上沖 | AE37: 春日部市大沼４－７５－２８
B38: =IF(E38="","",ROW()-20) | N38: =IF(L38=0,"",DATEDIF(L38,NOW(),"Y")) | R38: =IF(E38="","",R31) | Z38: 岡安 大弥 | AA38: だいや | AB38: 5 | AC38: M | AD38: 中野 | AE38: 春日部市東中野１４３３－３
B39: =IF(E39="","",ROW()-20) | N39: =IF(L39=0,"",DATEDIF(L39,NOW(),"Y")) | R39: =IF(E39="","",R32) | Z39: 池田 樂 | AA39: がく | AB39: 5 | AC39: M | AD39: 上沖 | AE39: 春日部市大沼４－７５－２－２２０
B40: =IF(E40="","",ROW()-20) | N40: =IF(L40=0,"",DATEDIF(L40,NOW(),"Y")) | R40: =IF(E40="","",R33) | Z40: 市山 琉聖 | AA40: りゅうせい | AB40: 4 | AC40: M | AD40: 城南 | AE40: 岩槻区城南４－３－４
B41: =IF(E41="","",ROW()-20) | N41: =IF(L41=0,"",DATEDIF(L41,NOW(),"Y")) | R41: =IF(E41="","",R34) | Z41: 佐藤 晴翔 | AA41: はれと | AB41: 4 | AC41: Ｍ | AD41: 西原 | AE41: 岩槻区西町２－４－２５－４０４
B42: =IF(E42="","",ROW()-20) | N42: =IF(L42=0,"",DATEDIF(L42,NOW(),"Y")) | R42: =IF(E42="","",R35) | Z42: 瀬田 昇生 | AA42: しょうせい | AB42: 4 | AC42: Ｍ | AD42: 岩槻 | AE42: 岩槻区宮町１－２－１６－６
B43: =IF(E43="","",ROW()-20) | N43: =IF(L43=0,"",DATEDIF(L43,NOW(),"Y")) | R43: =IF(E43="","",R36) | Z43: 釜澤 綾 | AA43: りょう | AB43: 4 | AC43: Ｍ | AD43: 慈恩寺 | AE43: 岩槻区裏慈恩寺１０８１－８
B44: =IF(E44="","",ROW()-20) | N44: =IF(L44=0,"",DATEDIF(L44,NOW(),"Y")) | R44: =IF(E44="","",R37) | Z44: 黒田 航生 | AA44: こうき | AB44: 4 | AC44: Ｍ | AD44: 徳力 | AE44: 岩槻区徳力４６３－１
B45: =IF(E45="","",ROW()-20) | N45: =IF(L45=0,"",DATEDIF(L45,NOW(),"Y")) | R45: =IF(E45="","",R38) | Z45: 浅子 世成 | AA45: せな | AB45: 4 | AC45: M | AD45: 芝川 | AE45: 見沼区中川９０７－３８
B46: =IF(E46="","",ROW()-20) | N46: =IF(L46=0,"",DATEDIF(L46,NOW(),"Y")) | R46: =IF(E46="","",R39) | Z46: 西依 星宇 | AA46: しょう | AB46: 4 | AC46: M | AD46: 春岡 | AE46: 見沼区小深作５２０－１３
B47: =IF(E47="","",ROW()-20) | N47: =IF(L47=0,"",DATEDIF(L47,NOW(),"Y")) | R47: =IF(E47="","",R40) | Z47: 庄司 武玄 | AA47: たけはる | AB47: 4 | AC47: M | AD47: 西原 | AE47: 岩槻区西町２－５－１５－４１５
B48: =IF(E48="","",ROW()-20) | N48: =IF(L48=0,"",DATEDIF(L48,NOW(),"Y")) | R48: =IF(E48="","",R41) | Z48: 田村 優光 | AA48: ゆうき | AB48: 4 | AC48: M | AD48: 西原 | AE48: 岩槻区岩槻４３４６－４０６
... B56: =IF(E56="","",ROW()-20) | N56: =IF(L56=0,"",DATEDIF(L56,NOW(),"Y")) | R56: =IF(E56="","",R49) | Z56: 佐野峯 由杏 | AA56: ゆあ | AB56: 6 | AC56: F | AD56: 大砂土東 | AE56: 見沼区東大宮７－５９－２－１０３
B57: =IF(E57="","",ROW()-20) | N57: =IF(L57=0,"",DATEDIF(L57,NOW(),"Y")) | R57: =IF(E57="","",R50) | Z57: 前角 ちひろ | AB57: 6 | AC57: F | AD57: 河合 | AE57: 岩槻区岩槻５２３４－３
B58: =IF(E58="","",ROW()-20) | N58: =IF(L58=0,"",DATEDIF(L58,NOW(),"Y")) | R58: =IF(E58="","",R51) | Z58: 中島 花純 | AA58: かすみ | AB58: 6 | AC58: F | AD58: 武里南
B59: =IF(E59="","",ROW()-20) | N59: =IF(L59=0,"",DATEDIF(L59,NOW(),"Y")) | R59: =IF(E59="","",R52) | Z59: 中島 花蓮 | AA59: かれん | AB59: 6 | AC59: F | AD59: 武里南
B60: =IF(E60="","",ROW()-20) | N60: =IF(L60=0,"",DATEDIF(L60,NOW(),"Y")) | R60: =IF(E60="","",R53) | Z60: 池内 真子都 | AA60: まこと | AB60: 6 | AC60: F | AD60: 上沖 | AE60: 春日部市大沼４－７５－２－４１９
B61: =IF(E61="","",ROW()-20) | N61: =IF(L61=0,"",DATEDIF(L61,NOW(),"Y")) | R61: =IF(E61="","",R54) | Z61: 池内 納奈瀬 | AA61: ななせ | AB61: 6 | AC61: F | AD61: 上沖
B62: =IF(E62="","",ROW()-20) | N62: =IF(L62=0,"",DATEDIF(L62,NOW(),"Y")) | R62: =IF(E62="","",R55) | Z62: 有山 奈名美 | AA62: ななみ | AB62: 6 | AC62: F | AD62: 城南 | AE62: 岩槻区城南１－４－１９
B63: =IF(E63="","",ROW()-20) | N63: =IF(L63=0,"",DATEDIF(L63,NOW(),"Y")) | R63: =IF(E63="","",R56) | Z63: 相馬 ひより | AB63: 6 | AC63: F | AD63: 豊春 | AE63: 春日部市道順川戸２２－１２
B64: =IF(E64="","",ROW()-20) | N64: =IF(L64=0,"",DATEDIF(L64,NOW(),"Y")) | R64: =IF(E64="","",R57) | Z64: 小柴 梓織 | AA64: しおり | AB64: 5 | AC64: F | AD64: 太田 | AE64: 岩槻区南平野４－７－９
B65: =IF(E65="","",ROW()-20) | N65: =IF(L65=0,"",DATEDIF(L65,NOW(),"Y")) | R65: =IF(E65="","",R58) | Z65: 細井 里桜 | AA65: りお | AB65: 5 | AC65: F | AD65: 太田 | AE65: 岩槻区南平野４－１２－１
B66: =IF(E66="","",ROW()-20) | N66: =IF(L66=0,"",DATEDIF(L66,NOW(),"Y")) | R66: =IF(E66="","",R59) | Z66: 佐藤 由奈 | AA66: ゆな | AB66: 5 | AC66: F | AD66: 立野 | AE66: 春日部市豊町５－２－３４
B67: =IF(E67="","",ROW()-20) | N67: =IF(L67=0,"",DATEDIF(L67,NOW(),"Y")) | R67: =IF(E67="","",R60) | Z67: 青木 美織 | AA67: みおり | AB67: 5 | AC67: F | AD67: 川辺 | AE67: 春日部市東中野１１２３－２
B68: =IF(E68="","",ROW()-20) | N68: =IF(L68=0,"",DATEDIF(L68,NOW(),"Y")) | R68: =IF(E68="","",R61) | Z68: 坪倉 芽生 | AA68: めい | AB68: 5 | AC68: F | AD68: 見沼 | AE68: 見沼区東大宮２－２－２５
B69: =IF(E69="","",ROW()-20) | N69: =IF(L69=0,"",DATEDIF(L69,NOW(),"Y")) | R69: =IF(E69="","",R62) | Z69: 森田 桜羽 | AA69: おとは | AB69: 4 | AC69: F | AD69: 慈恩寺 | AE69: 岩槻区慈恩寺５４６－４５
B70: =IF(E70="","",ROW()-20) | N70: =IF(L70=0,"",DATEDIF(L70,NOW(),"Y")) | R70: =IF(E70="","",R63) | Z70: 恒吉 瑠奈 | AA70: るな | AB70: 4 | AC70: F | AD70: 宮本 | AE70: 越谷市明神町２－２６６－１
B71: =IF(E71="","",ROW()-20) | N71: =IF(L71=0,"",DATEDIF(L71,NOW(),"Y")) | R71: =IF(E71="","",R64) | Z71: 横瀬 愛理 | AA71: あいり | AB71: 4 | AC71: Ｆ | AD71: 河合 | AE71: 岩槻区馬込１３０３－４
B72: =IF(E72="","",ROW()-20) | N72: =IF(L72=0,"",DATEDIF(L72,NOW(),"Y")) | R72: =IF(E72="","",R65) | Z72: 遠藤 かのん | AA72: かのん | AB72: 4 | AC72: F | AD72: 西原 | AE72: 岩槻区西町２－１－２３
B73: =IF(E73="","",ROW()-20) | N73: =IF(L73=0,"",DATEDIF(L73,NOW(),"Y")) | R73: =IF(E73="","",R66) | Z73: 平田 咲良 | AA73: さくら | AB73: 4 | AC73: F | AD73: 太田 | AE73: 岩槻区本町４－７－３１－３
B74: =IF(E74="","",ROW()-20) | N74: =IF(L74=0,"",DATEDIF(L74,NOW(),"Y")) | R74: =IF(E74="","",R67) | Z74: 山口 奈椿乃 | AA74: なつの | AB74: 4 | AC74: F | AD74: 上沖 | AE74: 春日部市大沼４－７５－２５０
B75: =IF(E75="","",ROW()-20) | N75: =IF(L75=0,"",DATEDIF(L75,NOW(),"Y")) | R75: =IF(E75="","",R68) | Z75: 東原 瑠璃 | AA75: るり | AB75: 4 | AC75: F | AD75: 太田
B76: =IF(E76="","",ROW()-20) | N76: =IF(L76=0,"",DATEDIF(L76,NOW(),"Y")) | R76: =IF(E76="","",R69) | Z76: 岡田 愛 | AA76: あい | AB76: 4 | AC76: F | AD76: 千間台 | AE76: 越谷市三野宮４７６
B77: =IF(E77="","",ROW()-20) | N77: =IF(L77=0,"",DATEDIF(L77,NOW(),"Y")) | R77: =IF(E77="","",R70) | Z77: 中 琴美 | AA77: ことみ | AB77: 4 | AC77: F | AD77: 河合 | AE77: 岩槻区平林寺６７８－１
B78: =IF(E78="","",ROW()-20) | N78: =IF(L78=0,"",DATEDIF(L78,NOW(),"Y")) | R78: =IF(E78="","",R71) | Z78: 箕川 怜 | AA78: れい | AB78: 4 | AC78: F | AD78: 豊春 | AE78: 春日部市増富１０３－１
B79: =IF(E79="","",ROW()-20) | N79: =IF(L79=0,"",DATEDIF(L79,NOW(),"Y")) | R79: =IF(E79="","",R72) | Z79: 上里町
B80: =IF(E80="","",ROW()-20) | N80: =IF(L80=0,"",DATEDIF(L80,NOW(),"Y")) | R80: =IF(E80="","",R73) | Z80: 寄居町
B81: =IF(E81="","",ROW()-20) | N81: =IF(L81=0,"",DATEDIF(L81,NOW(),"Y")) | R81: =IF(E81="","",R74) | Z81: 宮代町
B82: =IF(E82="","",ROW()-20) | N82: =IF(L82=0,"",DATEDIF(L82,NOW(),"Y")) | R82: =IF(E82="","",R75) | Z82: 杉戸町
B83: =IF(E83="","",ROW()-20) | N83: =IF(L83=0,"",DATEDIF(L83,NOW(),"Y")) | R83: =IF(E83="","",R76) | Z83: 松伏町
B84: =IF(E84="","",ROW()-20) | N84: =IF(L84=0,"",DATEDIF(L84,NOW(),"Y")) | R84: =IF(E84="","",R77)
B85: =IF(E85="","",ROW()-20) | N85: =IF(L85=0,"",DATEDIF(L85,NOW(),"Y")) | R85: =IF(E85="","",R78)
B86: =IF(E86="","",ROW()-20) | N86: =IF(L86=0,"",DATEDIF(L86,NOW(),"Y")) | R86: =IF(E86="","",R79)
B87: =IF(E87="","",ROW()-20) | N87: =IF(L87=0,"",DATEDIF(L87,NOW(),"Y")) | R87: =IF(E87="","",R80)
B88: =IF(E88="","",ROW()-20) | N88: =IF(L88=0,"",DATEDIF(L88,NOW(),"Y")) | R88: =IF(E88="","",R81)
B89: =IF(E89="","",ROW()-20) | N89: =IF(L89=0,"",DATEDIF(L89,NOW(),"Y")) | R89: =IF(E89="","",R82)
B90: =IF(E90="","",ROW()-20) | N90: =IF(L90=0,"",DATEDIF(L90,NOW(),"Y")) | R90: =IF(E90="","",R83)
B91: =IF(E91="","",ROW()-20) | N91: =IF(L91=0,"",DATEDIF(L91,NOW(),"Y")) | R91: =IF(E91="","",R84)
B92: =IF(E92="","",ROW()-20) | N92: =IF(L92=0,"",DATEDIF(L92,NOW(),"Y")) | R92: =IF(E92="","",R85)
B93: =IF(E93="","",ROW()-20) | N93: =IF(L93=0,"",DATEDIF(L93,NOW(),"Y")) | R93: =IF(E93="","",R86)
B94: =IF(E94="","",ROW()-20) | N94: =IF(L94=0,"",DATEDIF(L94,NOW(),"Y")) | R94: =IF(E94="","",R87)
B95: =IF(E95="","",ROW()-20) | N95: =IF(L95=0,"",DATEDIF(L95,NOW(),"Y")) | R95: =IF(E95="","",R88)
... B220: =IF(E220="","",ROW()-20) | N220: =IF(L220=0,"",DATEDIF(L220,NOW(),"Y")) | R220: =IF(E220="","",R213)

Sheet 選手登録追加
B2: 一般財団法人 埼玉陸上競技協会 令和 | M2: =IF(登録シート!D3="","",登録シート!M2) | N2: 年度 小学生選手登録申請
B3: 申請年月日 | D3: =IF(登録シート!D3="","",登録シート!D3) | G3: 登録区分（個人・団体） | J3: =IF(登録シート!D3="","",登録シート!J3) | K3: 申請区分（新規・追加） | N3: =IF(登録シート!D3="","",登録シート!N3) | O3: 活動拠点 | Q3: =IF(登録シート!D3="","",登録シート!Q3) | S3: ※受付番号 | U3: =IF(登録シート!D3="","",登録シート!U3)
B4: 登録人数 | C4: 男子 | D4: =IF(登録シート!D3="","",登録シート!D4) | E4: 団体登録 | F4: フリガナ | H4: =IF(登録シート!D3="","",登録シート!H4) | N4: 団体代表者名 | P4: =IF(登録シート!D3="","",登録シート!P4) | S4: 電話番号 | U4: =IF(登録シート!D3="","",登録シート!U4)
C5: 女子 | D5: =IF(登録シート!D3="","",登録シート!D5) | F5: 正式名称 | H5: =IF(登録シート!D3="","",登録シート!H5) | N5: ※登録料 | P5: =IF(登録シート!D3="","",登録シート!P5) | R5: 登録料振込口座番号：ゆうちょ銀行 上尾支店 口座番号：００１0０-4-695063
C6: ※合計 | D6: =IF(登録シート!D3="","",登録シート!D6) | F6: 略称名称 ※６文字以内 | H6: =IF(登録シート!D3="","",登録シート!H6) | K6: ※大会申込時には同じ略称名称を使って下さい。 | N6: 振込日 YYYY/MM/DD | P6: =IF(登録シート!D3="","",登録シート!P6) | R6: 取扱番号 | T6: =IF(登録シート!D3="","",登録シート!T6)
B7: 連絡責任者 | D7: フリガナ | E7: =IF(登録シート!D3="","",登録シート!E7) | I7: 連絡先 | J7: 郵便番号 | K7: =IF(登録シート!D3="","",登録シート!K7) | M7: 電話番号 | O7: =IF(登録シート!D3="","",登録シート!O7) | R7: 携帯電話 | T7: =IF(登録シート!D3="","",登録シート!T7)
D8: 氏 名 | E8: =IF(登録シート!D3="","",登録シート!E8) | J8: 住 所 | K8: =IF(登録シート!D3="","",登録シート!K8) | Q8: Ｅ－Ｍａｉｌ | S8: =IF(登録シート!D3="","",登録シート!S8)
B10: ■選手登録 | E10: ※１上二桁クラブNO 下三桁001～９９９で設定 | L10: ※２陸連登録の5，6年生の児童には〇を入力
B11: № | C11: ※1登録番号 | E11: 氏 名 | H11: フリガナ | K11: 性別 | L11: 生年月日 | N11: 年齢 | O11: 学校名 | Q11: 学年 | R11: 住 所 | X11: ※２陸連登録
B12: 例 | E12: 彩国 陸人 | H12: サイノクニ リクト | K12: 男 | L12: 37746 | N12: =IF(L12=0,0,DATEDIF(L12,NOW(),"Y")) -> 19 | O12: 彩の国 | Q12: 6 | R12: 埼玉県 | S12: 上尾市愛宕 | X12: 〇
B13: =IF(E13="","",ROW()-12+100) | N13: =IF(L13=0,"",DATEDIF(L13,NOW(),"Y")) | R13: =IF(E13="","",R12) | Z13: さいたま市
B14: =IF(E14="","",ROW()-12+100) | N14: =IF(L14=0,"",DATEDIF(L14,NOW(),"Y")) | R14: =IF(E14="","",R13) | Z14: 川越市
B15: =IF(E15="","",ROW()-12+100) | N15: =IF(L15=0,"",DATEDIF(L15,NOW(),"Y")) | R15: =IF(E15="","",#REF!) | Z15: 熊谷市
B16: =IF(E16="","",ROW()-12+100) | N16: =IF(L16=0,"",DATEDIF(L16,NOW(),"Y")) | R16: =IF(E16="","",R15) | Z16: 川口市
B17: =IF(E17="","",ROW()-12+100) | N17: =IF(L17=0,"",DATEDIF(L17,NOW(),"Y")) | R17: =IF(E17="","",R10) | Z17: 行田市
B18: =IF(E18="","",ROW()-12+100) | N18: =IF(L18=0,"",DATEDIF(L18,NOW(),"Y")) | R18: =IF(E18="","",R17) | Z18: 秩父市
B19: =IF(E19="","",ROW()-12+100) | N19: =IF(L19=0,"",DATEDIF(L19,NOW(),"Y")) | R19: =IF(E19="","",R18) | Z19: 所沢市
B20: =IF(E20="","",ROW()-12+100) | N20: =IF(L20=0,"",DATEDIF(L20,NOW(),"Y")) | R20: =IF(E20="","",#REF!) | Z20: 飯能市
B21: =IF(E21="","",ROW()-12+100) | N21: =IF(L21=0,"",DATEDIF(L21,NOW(),"Y")) | R21: =IF(E21="","",R20) | Z21: 加須市
B22: =IF(E22="","",ROW()-12+100) | N22: =IF(L22=0,"",DATEDIF(L22,NOW(),"Y")) | R22: =IF(E22="","",R15) | Z22: 本庄市
B23: =IF(E23="","",ROW()-12+100) | N23: =IF(L23=0,"",DATEDIF(L23,NOW(),"Y")) | R23: =IF(E23="","",R22) | Z23: 東松山市
B24: =IF(E24="","",ROW()-12+100) | N24: =IF(L24=0,"",DATEDIF(L24,NOW(),"Y")) | R24: =IF(E24="","",R23) | Z24: 春日部市
B25: =IF(E25="","",ROW()-12+100) | N25: =IF(L25=0,"",DATEDIF(L25,NOW(),"Y")) | R25: =IF(E25="","",#REF!) | Z25: 狭山市
B26: =IF(E26="","",ROW()-12+100) | N26: =IF(L26=0,"",DATEDIF(L26,NOW(),"Y")) | R26: =IF(E26="","",R25) | Z26: 羽生市
B27: =IF(E27="","",ROW()-12+100) | N27: =IF(L27=0,"",DATEDIF(L27,NOW(),"Y")) | R27: =IF(E27="","",R20) | Z27: 鴻巣市
B28: =IF(E28="","",ROW()-12+100) | N28: =IF(L28=0,"",DATEDIF(L28,NOW(),"Y")) | R28: =IF(E28="","",R27) | Z28: 深谷市
B29: =IF(E29="","",ROW()-12+100) | N29: =IF(L29=0,"",DATEDIF(L29,NOW(),"Y")) | R29: =IF(E29="","",R28) | Z29: 上尾市
B30: =IF(E30="","",ROW()-12+100) | N30: =IF(L30=0,"",DATEDIF(L30,NOW(),"Y")) | R30: =IF(E30="","",#REF!) | Z30: 草加市
B31: =IF(E31="","",ROW()-12+100) | N31: =IF(L31=0,"",DATEDIF(L31,NOW(),"Y")) | R31: =IF(E31="","",R30) | Z31: 越谷市
B32: =IF(E32="","",ROW()-12+100) | N32: =IF(L32=0,"",DATEDIF(L32,NOW(),"Y")) | R32: =IF(E32="","",R25) | Z32: 蕨市
B33: =IF(E33="","",ROW()-12+100) | N33: =IF(L33=0,"",DATEDIF(L33,NOW(),"Y")) | R33: =IF(E33="","",R32) | Z33: 戸田市
B34: =IF(E34="","",ROW()-12+100) | N34: =IF(L34=0,"",DATEDIF(L34,NOW(),"Y")) | R34: =IF(E34="","",R33) | Z34: 入間市
B35: =IF(E35="","",ROW()-12+100) | N35: =IF(L35=0,"",DATEDIF(L35,NOW(),"Y")) | R35: =IF(E35="","",#REF!) | Z35: 朝霞市
B36: =IF(E36="","",ROW()-12+100) | N36: =IF(L36=0,"",DATEDIF(L36,NOW(),"Y")) | R36: =IF(E36="","",R35) | Z36: 志木市
B37: =IF(E37="","",ROW()-12+100) | N37: =IF(L37=0,"",DATEDIF(L37,NOW(),"Y")) | R37: =IF(E37="","",R30) | Z37: 和光市
B38: =IF(E38="","",ROW()-12+100) | N38: =IF(L38=0,"",DATEDIF(L38,NOW(),"Y")) | R38: =IF(E38="","",R37) | Z38: 新座市
B39: =IF(E39="","",ROW()-12+100) | N39: =IF(L39=0,"",DATEDIF(L39,NOW(),"Y")) | R39: =IF(E39="","",R38) | Z39: 桶川市
B40: =IF(E40="","",ROW()-12+100) | N40: =IF(L40=0,"",DATEDIF(L40,NOW(),"Y")) | R40: =IF(E40="","",#REF!) | Z40: 久喜市
B41: =IF(E41="","",ROW()-12+100) | N41: =IF(L41=0,"",DATEDIF(L41,NOW(),"Y")) | R41: =IF(E41="","",R40) | Z41: 北本市
B42: =IF(E42="","",ROW()-12+100) | N42: =IF(L42=0,"",DATEDIF(L42,NOW(),"Y")) | R42: =IF(E42="","",R35) | Z42: 八潮市
B43: =IF(E43="","",ROW()-20) | N43: =IF(L43=0,"",DATEDIF(L43,NOW(),"Y")) | R43: =IF(E43="","",#REF!)
B44: =IF(E44="","",ROW()-20) | N44: =IF(L44=0,"",DATEDIF(L44,NOW(),"Y")) | R44: =IF(E44="","",#REF!)
B45: =IF(E45="","",ROW()-20) | N45: =IF(L45=0,"",DATEDIF(L45,NOW(),"Y")) | R45: =IF(E45="","",R44)
B46: =IF(E46="","",ROW()-20) | N46: =IF(L46=0,"",DATEDIF(L46,NOW(),"Y")) | R46: =IF(E46="","",#REF!)
B47: =IF(E47="","",ROW()-20) | N47: =IF(L47=0,"",DATEDIF(L47,NOW(),"Y")) | R47: =IF(E47="","",R46)
B48: =IF(E48="","",ROW()-20) | N48: =IF(L48=0,"",DATEDIF(L48,NOW(),"Y")) | R48: =IF(E48="","",#REF!)
B49: =IF(E49="","",ROW()-20) | N49: =IF(L49=0,"",DATEDIF(L49,NOW(),"Y")) | R49: =IF(E49="","",R48)
B50: =IF(E50="","",ROW()-20) | N50: =IF(L50=0,"",DATEDIF(L50,NOW(),"Y")) | R50: =IF(E50="","",R43)
B51: =IF(E51="","",ROW()-20) | N51: =IF(L51=0,"",DATEDIF(L51,NOW(),"Y")) | R51: =IF(E51="","",R50)
B52: =IF(E52="","",ROW()-20) | N52: =IF(L52=0,"",DATEDIF(L52,NOW(),"Y")) | R52: =IF(E52="","",R45)
B53: =IF(E53="","",ROW()-20) | N53: =IF(L53=0,"",DATEDIF(L53,NOW(),"Y")) | R53: =IF(E53="","",R52)
B54: =IF(E54="","",ROW()-20) | N54: =IF(L54=0,"",DATEDIF(L54,NOW(),"Y")) | R54: =IF(E54="","",R47)
B55: =IF(E55="","",ROW()-20) | N55: =IF(L55=0,"",DATEDIF(L55,NOW(),"Y")) | R55: =IF(E55="","",R54)
B56: =IF(E56="","",ROW()-20) | N56: =IF(L56=0,"",DATEDIF(L56,NOW(),"Y")) | R56: =IF(E56="","",R49)
B57: =IF(E57="","",ROW()-20) | N57: =IF(L57=0,"",DATEDIF(L57,NOW(),"Y")) | R57: =IF(E57="","",R56)
B58: =IF(E58="","",ROW()-20) | N58: =IF(L58=0,"",DATEDIF(L58,NOW(),"Y")) | R58: =IF(E58="","",R51)
B59: =IF(E59="","",ROW()-20) | N59: =IF(L59=0,"",DATEDIF(L59,NOW(),"Y")) | R59: =IF(E59="","",R58)
B60: =IF(E60="","",ROW()-20) | N60: =IF(L60=0,"",DATEDIF(L60,NOW(),"Y")) | R60: =IF(E60="","",R53)
B61: =IF(E61="","",ROW()-20) | N61: =IF(L61=0,"",DATEDIF(L61,NOW(),"Y")) | R61: =IF(E61="","",R60)

Sheet 指導者登録追加
B2: 一般財団法人 埼玉陸上競技協会 令和 | M2: =IF(登録シート!D3="","",登録シート!M2) | N2: 年度 小学生選手登録申請
B3: 申請年月日 | D3: =IF(登録シート!D3="","",登録シート!D3) | G3: 登録区分（個人・団体） | J3: =IF(登録シート!D3="","",登録シート!J3) | K3: 申請区分（新規・追加） | N3: =IF(登録シート!D3="","",登録シート!N3) | O3: 活動拠点 | Q3: =IF(登録シート!D3="","",登録シート!Q3) | S3: ※受付番号 | U3: =IF(登録シート!D3="","",登録シート!U3)
B4: 登録人数 | C4: 男子 | D4: =IF(登録シート!D3="","",登録シート!D4) | E4: 団体登録 | F4: フリガナ | H4: =IF(登録シート!D3="","",登録シート!H4) | N4: 団体代表者名 | P4: =IF(登録シート!D3="","",登録シート!P4) | S4: 電話番号 | U4: =IF(登録シート!D3="","",登録シート!U4)
C5: 女子 | D5: =IF(登録シート!D3="","",登録シート!D5) | F5: 正式名称 | H5: =IF(登録シート!D3="","",登録シート!H5) | N5: ※登録料 | P5: =IF(登録シート!D3="","",登録シート!P5) | R5: 登録料振込口座番号：ゆうちょ銀行 上尾支店 口座番号：００100-4-695063
C6: ※合計 | D6: =IF(登録シート!D3="","",登録シート!D6) | F6: 略称名称 ※６文字以内 | H6: =IF(登録シート!D3="","",登録シート!H6) | K6: ※大会申込時には同じ略称名称を使って下さい。 | N6: 振込日 YYYY/MM/DD | P6: =IF(登録シート!D3="","",登録シート!P6) | R6: 取扱番号 | T6: =IF(登録シート!D3="","",登録シート!T6)
B7: 連絡責任者 | D7: フリガナ | E7: =IF(登録シート!D3="","",登録シート!E7) | I7: 連絡先 | J7: 郵便番号 | K7: =IF(登録シート!D3="","",登録シート!K7) | M7: 電話番号 | O7: =IF(登録シート!D3="","",登録シート!O7) | R7: 携帯電話 | T7: =IF(登録シート!D3="","",登録シート!T7)
D8: 氏 名 | E8: =IF(登録シート!D3="","",登録シート!E8) | J8: 住 所 | K8: =IF(登録シート!D3="","",登録シート!K8) | Q8: Ｅ－Ｍａｉｌ | S8: =IF(登録シート!D3="","",登録シート!S8)
B10: 指導種目 ※主に指導されている種目 | E10: 氏 名 ※姓と名の間に空白 | H10: フリガナ ※姓と名の間に空白 | K10: 性別 | L10: 生年月日 | N10: 年齢 | O10: ＪＡＡＦ指導者資格 | T10: 日本陸連公認審判員資格
O11: 有無 | P11: 資格 | R11: 登録番号 | T11: 有無 | U11: 資格 | V11: 登録番号
B12: 例 | C12: 全般 | E12: 彩の国 一郎 | H12: サイノクニ イチロウ | K12: 男 | L12: 30234 | N12: =IF(L12=0,"",DATEDIF(L12,NOW(),"Y")) -> 40 | O12: 有 | P12: ジュニアコーチ | R12: 011C0208888 | T12: 有 | U12: B級
B13: 6 | N13: =IF(L13=0,"",DATEDIF(L13,NOW(),"Y"))
B14: 7 | N14: =IF(L14=0,"",DATEDIF(L14,NOW(),"Y"))
B15: 8 | N15: =IF(L15=0,"",DATEDIF(L15,NOW(),"Y"))
B16: 9 | N16: =IF(L16=0,"",DATEDIF(L16,NOW(),"Y"))
B17: 10 | N17: =IF(L17=0,"",DATEDIF(L17,NOW(),"Y"))
B18: 11 | N18: =IF(L18=0,"",DATEDIF(L18,NOW(),"Y"))
B19: 12 | N19: =IF(L19=0,"",DATEDIF(L19,NOW(),"Y"))
B20: 13 | N20: =IF(L20=0,"",DATEDIF(L20,NOW(),"Y"))
B21: 14 | N21: =IF(L21=0,"",DATEDIF(L21,NOW(),"Y"))
B22: 15 | N22: =IF(L22=0,"",DATEDIF(L22,NOW(),"Y"))
B23: =IF(E23="","",ROW()-20) | N23: =IF(L23=0,"",DATEDIF(L23,NOW(),"Y")) | R23: =IF(E23="","",#REF!)
B24: =IF(E24="","",ROW()-20) | N24: =IF(L24=0,"",DATEDIF(L24,NOW(),"Y")) | R24: =IF(E24="","",#REF!)
B25: =IF(E25="","",ROW()-20) | N25: =IF(L25=0,"",DATEDIF(L25,NOW(),"Y")) | R25: =IF(E25="","",R24)
B26: =IF(E26="","",ROW()-20) | N26: =IF(L26=0,"",DATEDIF(L26,NOW(),"Y")) | R26: =IF(E26="","",#REF!)
B27: =IF(E27="","",ROW()-20) | N27: =IF(L27=0,"",DATEDIF(L27,NOW(),"Y")) | R27: =IF(E27="","",R26)
B28: =IF(E28="","",ROW()-20) | N28: =IF(L28=0,"",DATEDIF(L28,NOW(),"Y")) | R28: =IF(E28="","",#REF!)
B29: =IF(E29="","",ROW()-20) | N29: =IF(L29=0,"",DATEDIF(L29,NOW(),"Y")) | R29: =IF(E29="","",R28)
B30: =IF(E30="","",ROW()-20) | N30: =IF(L30=0,"",DATEDIF(L30,NOW(),"Y")) | R30: =IF(E30="","",R23)
B31: =IF(E31="","",ROW()-20) | N31: =IF(L31=0,"",DATEDIF(L31,NOW(),"Y")) | R31: =IF(E31="","",R30)
